BEGIN:VCALENDAR
VERSION:2.0
PRODID:-//Miami Airport Chamber - ECPv6.11.0.1//NONSGML v1.0//EN
CALSCALE:GREGORIAN
METHOD:PUBLISH
X-ORIGINAL-URL:https://www.miamiairportchamber.com
X-WR-CALDESC:Events for Miami Airport Chamber
REFRESH-INTERVAL;VALUE=DURATION:PT1H
X-Robots-Tag:noindex
X-PUBLISHED-TTL:PT1H
BEGIN:VTIMEZONE
TZID:America/New_York
BEGIN:DAYLIGHT
TZOFFSETFROM:-0500
TZOFFSETTO:-0400
TZNAME:EDT
DTSTART:20250309T070000
END:DAYLIGHT
BEGIN:STANDARD
TZOFFSETFROM:-0400
TZOFFSETTO:-0500
TZNAME:EST
DTSTART:20251102T060000
END:STANDARD
END:VTIMEZONE
BEGIN:VEVENT
DTSTART;TZID=America/New_York:20250718T073000
DTEND;TZID=America/New_York:20250718T090000
DTSTAMP:20260423T162852
CREATED:20250704T164047Z
LAST-MODIFIED:20250715T181532Z
UID:1033-1752823800-1752829200@www.miamiairportchamber.com
SUMMARY:July 18 2025
DESCRIPTION:
URL:https://www.miamiairportchamber.com/event/july-18-2025
LOCATION:Homewood Suites\, 5500 Waterford District Dr\,\, Miami\, FL\, 33126\, United States
ATTACH;FMTTYPE=image/png:https://www.miamiairportchamber.com/wp-content/uploads/2025/07/Miami-Airport-Chamber-July-2025-Networking-Wide-Breakfast-071825-FIXED.png
END:VEVENT
END:VCALENDAR