BEGIN:VCALENDAR
VERSION:2.0
PRODID:-//Miami Airport Chamber - ECPv6.11.0.1//NONSGML v1.0//EN
CALSCALE:GREGORIAN
METHOD:PUBLISH
X-ORIGINAL-URL:https://www.miamiairportchamber.com
X-WR-CALDESC:Events for Miami Airport Chamber
REFRESH-INTERVAL;VALUE=DURATION:PT1H
X-Robots-Tag:noindex
X-PUBLISHED-TTL:PT1H
BEGIN:VTIMEZONE
TZID:America/New_York
BEGIN:DAYLIGHT
TZOFFSETFROM:-0500
TZOFFSETTO:-0400
TZNAME:EDT
DTSTART:20260308T070000
END:DAYLIGHT
BEGIN:STANDARD
TZOFFSETFROM:-0400
TZOFFSETTO:-0500
TZNAME:EST
DTSTART:20261101T060000
END:STANDARD
END:VTIMEZONE
BEGIN:VEVENT
DTSTART;TZID=America/New_York:20260206T073000
DTEND;TZID=America/New_York:20260206T100000
DTSTAMP:20260423T023613
CREATED:20260122T203022Z
LAST-MODIFIED:20260123T163139Z
UID:1091-1770363000-1770372000@www.miamiairportchamber.com
SUMMARY:Miami Airport Chamber Power Networking Breakfast\, February 6.
DESCRIPTION:Miami Airport Chamber Power Networking Breakfast\nStart your day building powerful connections at our Power Networking Breakfast\, a high-energy morning event designed to help you grow relationships\, promote your business\, and connect with fellow professionals in a welcoming setting. \nEnjoy a delicious continental breakfast while engaging with business leaders\, entrepreneurs\, and decision-makers from across the Miami Airport business community. \n✅ Connect with Business Professionals✅ Promote Your Business✅ Enjoy a Delicious Continental Breakfast \nFriday\, February 6 / 7:30 AM – 10:00 AMLocation:Homewood Suites by Hilton Miami-Airport / Blue Lagoon5500 Waterford District Dr\, Miami\, FL 33126 \nPricing: \n\n\nMAC Members: FREE \n\n\nGuests: $20 \n\n\nDon’t miss this opportunity to network\, collaborate\, and start your morning with purpose and great connections. RSVP today—space is limited! \nFor more information about upcoming events\, please visit:https://www.miamiairportchamber.com/ \n#MiamiAirportChamber #PowerNetworking #MiamiBusiness\n#BreakfastEvent #ChamberNetworking
URL:https://www.miamiairportchamber.com/event/miami-airport-chamber-power-networking-breakfast-february-6
LOCATION:Homewood Suites by Hilton Miami-Airport / Blue Lagoon 5500 Waterford District Dr\, Miami\, FL 33126
CATEGORIES:Breakfast
ATTACH;FMTTYPE=image/png:https://www.miamiairportchamber.com/wp-content/uploads/2026/01/MAC-Power-Networking-Breakfast-020626-1080-x-1350-px-1.png
END:VEVENT
BEGIN:VEVENT
DTSTART;TZID=America/New_York:20260211T113000
DTEND;TZID=America/New_York:20260211T140000
DTSTAMP:20260423T023613
CREATED:20260121T144503Z
LAST-MODIFIED:20260210T164723Z
UID:1081-1770809400-1770818400@www.miamiairportchamber.com
SUMMARY:Miami Airport Chamber Executive Lunch with Hydi Webb\, Director & CEO of PortMiami
DESCRIPTION:Miami Airport Chamber Signature Lunch \nBe Part of the Newest & Most Dynamic Chamber in South Florida \nJoin us for an exclusive Miami Airport Chamber Signature Lunch on Wednesday\, February 11\, from 11:30 AM to 2:00 PM\, at the elegant Sonesta Miami Airport. \nThis special event features Hydi Webb\, Director & CEO of PortMiami\, who will share insights on regional growth\, trade\, and economic development. \nWhy Attend:\n• Connect with top business leaders and professionals\n• Be part of a historic milestone for the Miami Airport Chamber\n• Enjoy a chef-crafted plated lunch in a premier setting\n• Build meaningful relationships and expand your network \nLocation:\nSonesta Miami Airport\n950 NW Le Jeune Rd\, Miami\, FL 33126 \nRegistration:\n• MAC Members: $49\n• MAC Trustee Members: FREE\n• Non-Members: $65 Advance | $75 at the Door \nVIP Sponsor – $1\,000\n• VIP table of 7 with prime seating\n• Sponsor table in lobby\n• Logo featured in email marketing (44K+) and social media (40+ channels)\n• Logo displayed on event screen\n• 5-minute presentation & sponsor recognition\n• Attendee list after the event \nEvent Sponsor – $500\n• Sponsor table in lobby\n• “Sponsor” logo on email & social media marketing\n• Logo displayed on event screen\n• Sponsor mention and 5-minute presentation\n• Attendee list after the event\n• Event seats purchased separately \nSecure your seat today and be part of South Florida’s newest premier business community. \n#MiamiAirportChamber #NetworkingMiami #BusinessGrowth #MiamiAirport #businesslunch \nRSVP Here:  https://bit.ly/MACLunch021126
URL:https://www.miamiairportchamber.com/event/miami-airport-chamber-executive-lunch-with-hydi-webb-director-ceo-of-portmiami
LOCATION:Sonesta Miami Airport 950 NW Le Jeune Rd\, Miami\, FL 33126\, 950 NW Le Jeune Rd\, Miami\, FL 33126\, Miami\, FL 33126\, FL\, 33126\, United States
CATEGORIES:Luncheon
ATTACH;FMTTYPE=image/png:https://www.miamiairportchamber.com/wp-content/uploads/2026/01/Hydi-Webb-Director-and-CEO-Port-Miami-.png
END:VEVENT
BEGIN:VEVENT
DTSTART;TZID=America/New_York:20260408T113000
DTEND;TZID=America/New_York:20260408T140000
DTSTAMP:20260423T023613
CREATED:20260326T140212Z
LAST-MODIFIED:20260326T151247Z
UID:1122-1775647800-1775656800@www.miamiairportchamber.com
SUMMARY:Miami Airport Chamber Signature Lunch Featuring Michael Miller
DESCRIPTION:✈️ MIAMI AIRPORT CHAMBER SIGNATURE LUNCH ✈️ Be Part of the Newest & Most Dynamic Chamber in South Florida! \nJoin us for an exciting Signature Event of the Miami Airport Chamber at our exclusive Lunch on Wednesday\, April 8\, 2026\, from 11:30 AM to 2:00 PM at the elegant Sonesta Miami Airport! \n️ VERY SPECIAL GUEST: Michael Miller Co-Founder and Publisher of Miami Community Newspapers \nEVENT DETAILS: \n• Date: Wednesday\, April 8\, 2026 \n• Time: 11:30 AM – 2:00 PM \n• Location: Sonesta Miami Airport – 950 NW Le Jeune Rd\, Miami\, FL 33126 \n    WHY YOU CAN’T MISS THIS EVENT: \n✅ Historic Business Moment – Be among the first to experience the Miami Airport Chamber\, South Florida’s newest and most dynamic business organization! \n✅ High-Value Networking – Connect with top professionals\, entrepreneurs\, and industry leaders looking to expand their business reach. \n✅ Delicious Plated Lunch – Enjoy a chef-crafted meal featuring soup of the day\, house salad\, fresh rolls\, dessert\, and iced tea in a premium setting. \n✅ A Launch to Remember – Celebrate a game-changing chamber focused on business growth\, collaboration\, and success in the Miami Airport area and beyond.” \n️ REGISTRATION: \n• MAC Members: $49 \n• MAC Trustee Members: FREE \n• Non-Members: $65 Advance | $75 at the Door \nSPONSORSHIP OPPORTUNITIES: \nVIP Sponsor – $1\,000 \n• VIP table of 7 with prime seating \n• Sponsor table in lobby \n• Logo featured in email marketing (44K+) and social media (40+ channels) \n• Logo displayed on event screen \n• 5-minute presentation & sponsor recognition \n• Attendee list after the event \nEvent Sponsor – $500 • Sponsor table in lobby \n• “Sponsor” logo on email & social media marketing \n• Logo displayed on event screen \n• Sponsor mention and 5-minute presentation \n• Attendee list after the event \n• (Event seats purchased separately) \nRSVP Here: https://bit.ly/MACLunchwithMichaelMiller \nBe part of South Florida’s newest premier business community from day one! Secure your spot today and take your networking to new heights. \nFor more information\, please visit www.miamiairportchamber.com \n#MiamiAirportChamber #NetworkingMiami #BusinessGrowth #MiamiAirport #BusinessLunch #MiamiCommunityNewspapers #MiamiBusinessLeaders
URL:https://www.miamiairportchamber.com/event/miami-airport-chamber-signature-lunch-featuring-michael-miller
LOCATION:Sonesta Miami Airport – 950 NW Le Jeune Rd\, Miami\, FL 33126\, 950 NW Le Jeune Rd\, Miami\, FL 33126\, Miami\, FL 33126\, FL\, 33126\, United States
CATEGORIES:Luncheon
ATTACH;FMTTYPE=image/png:https://www.miamiairportchamber.com/wp-content/uploads/2026/03/MAC-Signature-Lunch-Featuring-Michael-Miller-040826-1080-x-1350-px-1.png
END:VEVENT
END:VCALENDAR