BEGIN:VCALENDAR
VERSION:2.0
PRODID:-//Miami Airport Chamber - ECPv6.11.0.1//NONSGML v1.0//EN
CALSCALE:GREGORIAN
METHOD:PUBLISH
X-ORIGINAL-URL:https://www.miamiairportchamber.com
X-WR-CALDESC:Events for Miami Airport Chamber
REFRESH-INTERVAL;VALUE=DURATION:PT1H
X-Robots-Tag:noindex
X-PUBLISHED-TTL:PT1H
BEGIN:VTIMEZONE
TZID:America/New_York
BEGIN:DAYLIGHT
TZOFFSETFROM:-0500
TZOFFSETTO:-0400
TZNAME:EDT
DTSTART:20250309T070000
END:DAYLIGHT
BEGIN:STANDARD
TZOFFSETFROM:-0400
TZOFFSETTO:-0500
TZNAME:EST
DTSTART:20251102T060000
END:STANDARD
END:VTIMEZONE
BEGIN:VEVENT
DTSTART;TZID=America/New_York:20250822T113000
DTEND;TZID=America/New_York:20250822T140000
DTSTAMP:20260423T123035
CREATED:20250818T143055Z
LAST-MODIFIED:20250818T143331Z
UID:1061-1755862200-1755871200@www.miamiairportchamber.com
SUMMARY:Miami Airport Chamber Executive Networking Lunch August 22nd
DESCRIPTION:Miami Airport Chamber Executive Lunch\nFriday\, August 22nd\, 11:30 AM to 2:00 PM \nWith Special Guest Speaker: Calvin Rodriguez\nVice President\, Sales & Engagement – Travel Planners International\n \nConnect with South Florida’s dynamic business community at the Miami Airport Chamber’s upcoming event\, held at the 94th Aero Squadron Restaurant. \nThis gathering offers a valuable opportunity to network with industry leaders and gain insightful knowledge from our very special speaker Calvin Rodriguez\, V.P. of Sales & Engagement\, Travel Planners International.\n \nBe part of this key Chamber event focused on fostering connections and empowering professional growth in the Miami Airport area. Secure your place now to elevate your professional resources and toolkit. \nWhy Attend This Very Special Event: \n✅ Incredible and insightful speaker\,  Calvin Rodriguez\, V.P. of Sales & Engagement\, Travel Planners International. \n✅ Historic Business Moment – Be among the first to experience the Miami Airport Chamber\, South Florida’s newest and most dynamic business organization! \n✅ High-Value Networking – Connect with top professionals\, entrepreneurs\, and industry leaders looking to expand their business reach within the vibrant Miami Airport area and beyond. \n✅ Delicious Lunch – Enjoy a chef-crafted meal in the premium setting of the 94th Aero Squadron adjacent to Miami International Airport. \n✅ Celebrate a game-changing chamber focused on business growth\, collaboration\, and success right here in the Miami Airport area. \n✅ Gain Expert Insights from our amazing guest speaker. \nReserve Your Seat Now – Limited Spots Available! \nBe part of South Florida’s newest premier business community from day one! Secure your spot today and take your networking and communication skills to new heights. \nMiami Airport Chamber Executive Lunch\nFriday\, August 22nd\, 11:30 AM – 2:00 PM EDT \n94th Aero Squadron 1395 NW 57th Ave\, Miami\, FL 33126 \nRSVP Today: https://miamiairportchamber.wildapricot.org/event-6299586 \nEvent Fee: \n\n\n$55.00 Members\n$65.00 Event Tickets\n$75.00 at the Door\n\nSponsorship Opportunity \nSponsors – $1000 VIP Includes Table of 7 in Front and \n\nSponsor Table in Lobby\n“Sponsor” Logo on Email 44K and Social Media Marketing 40+\n“Sponsor” logo on screen\n“Sponsor” Mention and 5 Minute Presentation\nAttendees List at End of Event\n\n\n#MiamiAirportChamber #NetworkingMiami #BusinessGrowth #MiamiAirport #LaunchLunch \nRSVP TODAY – SPACE IS LIMITED!\nRSVP Today: https://miamiairportchamber.wildapricot.org/event-6299586
URL:https://www.miamiairportchamber.com/event/miami-airport-chamber-executive-networking-lunch-august-22nd
LOCATION:94th Aero Squadron\, 1395 NW 57th Ave\, Miami\, FL\, 33126\, United States
ATTACH;FMTTYPE=image/png:https://www.miamiairportchamber.com/wp-content/uploads/2025/08/Calvin-Rodriguez-Travel-Planners-International-MAC-WIDE-II-August-Lunch-081325.png
END:VEVENT
END:VCALENDAR